BEGIN:VCALENDAR
VERSION:2.0
PRODID:-//Chemical Engineering &amp; Applied Chemistry - ECPv6.15.20//NONSGML v1.0//EN
CALSCALE:GREGORIAN
METHOD:PUBLISH
X-ORIGINAL-URL:https://chem-eng.utoronto.ca
X-WR-CALDESC:Events for Chemical Engineering &amp; Applied Chemistry
REFRESH-INTERVAL;VALUE=DURATION:PT1H
X-Robots-Tag:noindex
X-PUBLISHED-TTL:PT1H
BEGIN:VTIMEZONE
TZID:America/Toronto
BEGIN:DAYLIGHT
TZOFFSETFROM:-0500
TZOFFSETTO:-0400
TZNAME:EDT
DTSTART:20240310T070000
END:DAYLIGHT
BEGIN:STANDARD
TZOFFSETFROM:-0400
TZOFFSETTO:-0500
TZNAME:EST
DTSTART:20241103T060000
END:STANDARD
BEGIN:DAYLIGHT
TZOFFSETFROM:-0500
TZOFFSETTO:-0400
TZNAME:EDT
DTSTART:20250309T070000
END:DAYLIGHT
BEGIN:STANDARD
TZOFFSETFROM:-0400
TZOFFSETTO:-0500
TZNAME:EST
DTSTART:20251102T060000
END:STANDARD
BEGIN:DAYLIGHT
TZOFFSETFROM:-0500
TZOFFSETTO:-0400
TZNAME:EDT
DTSTART:20260308T070000
END:DAYLIGHT
BEGIN:STANDARD
TZOFFSETFROM:-0400
TZOFFSETTO:-0500
TZNAME:EST
DTSTART:20261101T060000
END:STANDARD
END:VTIMEZONE
BEGIN:VEVENT
DTSTART;TZID=America/Toronto:20251031T130000
DTEND;TZID=America/Toronto:20251031T150000
DTSTAMP:20260423T035500
CREATED:20251016T153455Z
LAST-MODIFIED:20251024T210013Z
UID:43820-1761915600-1761922800@chem-eng.utoronto.ca
SUMMARY:Virtual Graduate Research Day Fall 2025
DESCRIPTION:Passionate about conducting research through a master’s or doctoral degree in chemical engineering? You will not want to miss our Virtual Graduate Research Day 2025 (VGRD2025) on October 31\, 2025\, 1:00-3:00 p.m. (EST). This is a unique opportunity to experience what U of T’s Department of Chemical Engineering & Applied Chemistry can offer you as a graduate student. \nApply today for this exclusive opportunity to engage with our world-renowned faculty\, alumni\, students and admissions staff. \n\n\n\n\n\n\n\n\n\n\n\n\n\n\nResearch in Chemical Engineering and Applied Chemistry impacts foundational principles that tackle major challenges to human health\, environmental stewardship\, and renewable energy. Through inter- and intra-departmental collaborations and the wide range of expertise of our researchers\, our ground-breaking work addresses key issues concerning the sustainability of our society. \n\n\n\n\n\n\n\n\n\n\n\n\n\n\n\n\n\n\n\n\n\nWhere and when will VGRD2025 take place?\nThe entire event will take place October 31\, 2025\, 1:00 – 3:00 p.m. (EST)\, via Zoom. \nWho should apply to attend VGRD2025?\nThis event is for top Domestic and International potential applicants to U of T Chemical Engineering & Applied Chemistry MASc and PhD programs. \nWhy should I attend VGRD2025?\nThere is a lot to consider when it comes to graduate school\, from research interests and community to support and career-development opportunities. This is an exciting opportunity to have all your questions addressed about what Canada’s top program in Chemical Engineering & Applied Chemistry has to offer. \nWhat will I experience at VGRD2025?\n\nInteractive Session with Professor Alison McGuigan\nQ and A\nA virtual poster session\nAdministrative staff will be available to answer questions and provide information on the admissions process\n\nHow to apply for VGRD2025?\nOutstanding applicants will be invited to attend this event. To be considered for participation\, submit the following by Friday October 24\, 2025: \n\n CV and transcript (electronic is fine) to Joan Chen at gradassist.chemeng@utoronto.ca\n\nNeed help? \nQuestions about the application procedure can be directed to: \ngradassist.chemeng@utoronto.ca
URL:https://chem-eng.utoronto.ca/event/virtual-graduate-research-day-fall-2025/
LOCATION:Zoom
CATEGORIES:Prospective Graduate
END:VEVENT
END:VCALENDAR