BEGIN:VCALENDAR
VERSION:2.0
PRODID:-//Chemical Engineering &amp; Applied Chemistry - ECPv6.15.20//NONSGML v1.0//EN
CALSCALE:GREGORIAN
METHOD:PUBLISH
X-ORIGINAL-URL:https://chem-eng.utoronto.ca
X-WR-CALDESC:Events for Chemical Engineering &amp; Applied Chemistry
REFRESH-INTERVAL;VALUE=DURATION:PT1H
X-Robots-Tag:noindex
X-PUBLISHED-TTL:PT1H
BEGIN:VTIMEZONE
TZID:America/Toronto
BEGIN:DAYLIGHT
TZOFFSETFROM:-0500
TZOFFSETTO:-0400
TZNAME:EDT
DTSTART:20250309T070000
END:DAYLIGHT
BEGIN:STANDARD
TZOFFSETFROM:-0400
TZOFFSETTO:-0500
TZNAME:EST
DTSTART:20251102T060000
END:STANDARD
BEGIN:DAYLIGHT
TZOFFSETFROM:-0500
TZOFFSETTO:-0400
TZNAME:EDT
DTSTART:20260308T070000
END:DAYLIGHT
BEGIN:STANDARD
TZOFFSETFROM:-0400
TZOFFSETTO:-0500
TZNAME:EST
DTSTART:20261101T060000
END:STANDARD
BEGIN:DAYLIGHT
TZOFFSETFROM:-0500
TZOFFSETTO:-0400
TZNAME:EDT
DTSTART:20270314T070000
END:DAYLIGHT
BEGIN:STANDARD
TZOFFSETFROM:-0400
TZOFFSETTO:-0500
TZNAME:EST
DTSTART:20271107T060000
END:STANDARD
END:VTIMEZONE
BEGIN:VEVENT
DTSTART;TZID=America/Toronto:20260210T100000
DTEND;TZID=America/Toronto:20260210T110000
DTSTAMP:20260423T035500
CREATED:20260123T005934Z
LAST-MODIFIED:20260126T182013Z
UID:46680-1770717600-1770721200@chem-eng.utoronto.ca
SUMMARY:Masters in Chemical Engineering: February 10th Drop-In Information Session
DESCRIPTION:Join M.Eng Coordinator & Professional Programs Advisor Liuqing Chen for drop-in session discussing our MEng program! \nThis session is designed for anyone interested in the Master of Engineering (MEng) program in Chemical Engineering. Topics discussed will include: \n\nProgram structure and pathways\nLearning experience and opportunities\nAdmission requirements and instructions\n\nThe talk will be followed by a Q&A session where you can ask all your application-related questions. \nNo registration required! \nJOIN US AT: \nhttps://utoronto.zoom.us/j/86952061281
URL:https://chem-eng.utoronto.ca/event/masters-in-chemical-engineering-february-10th-information-session/
CATEGORIES:Prospective Graduate,Prospective Student Events
END:VEVENT
END:VCALENDAR