BEGIN:VCALENDAR
VERSION:2.0
PRODID:-//Chemical Engineering &amp; Applied Chemistry - ECPv6.15.20//NONSGML v1.0//EN
CALSCALE:GREGORIAN
METHOD:PUBLISH
X-WR-CALNAME:Chemical Engineering &amp; Applied Chemistry
X-ORIGINAL-URL:https://chem-eng.utoronto.ca
X-WR-CALDESC:Events for Chemical Engineering &amp; Applied Chemistry
REFRESH-INTERVAL;VALUE=DURATION:PT1H
X-Robots-Tag:noindex
X-PUBLISHED-TTL:PT1H
BEGIN:VTIMEZONE
TZID:America/Toronto
BEGIN:DAYLIGHT
TZOFFSETFROM:-0500
TZOFFSETTO:-0400
TZNAME:EDT
DTSTART:20250309T070000
END:DAYLIGHT
BEGIN:STANDARD
TZOFFSETFROM:-0400
TZOFFSETTO:-0500
TZNAME:EST
DTSTART:20251102T060000
END:STANDARD
BEGIN:DAYLIGHT
TZOFFSETFROM:-0500
TZOFFSETTO:-0400
TZNAME:EDT
DTSTART:20260308T070000
END:DAYLIGHT
BEGIN:STANDARD
TZOFFSETFROM:-0400
TZOFFSETTO:-0500
TZNAME:EST
DTSTART:20261101T060000
END:STANDARD
BEGIN:DAYLIGHT
TZOFFSETFROM:-0500
TZOFFSETTO:-0400
TZNAME:EDT
DTSTART:20270314T070000
END:DAYLIGHT
BEGIN:STANDARD
TZOFFSETFROM:-0400
TZOFFSETTO:-0500
TZNAME:EST
DTSTART:20271107T060000
END:STANDARD
END:VTIMEZONE
BEGIN:VEVENT
DTSTART;VALUE=DATE:20260305
DTEND;VALUE=DATE:20260307
DTSTAMP:20260421T010634
CREATED:20260302T144024Z
LAST-MODIFIED:20260302T150147Z
UID:46804-1772668800-1772841599@chem-eng.utoronto.ca
SUMMARY:Search for Associate Professor\, Nuclear Engineering: Ben Beeler
DESCRIPTION:The Department of Chemical Engineering & Applied Chemistry is pleased to host a special research and teaching seminar by Ben Beeler on Thursday March 5th and Friday March 6th\, respectively\, in WB-215 and/or virtually on teams. \nPlease see the full details below: \n  \nRESEARCH SEMINAR: March 5th from 11:00 am – 12:00 pm (WB-215 or on MS Teams) \nTitle: Atomistic simulations of advanced nuclear fuels to drive fuel performance modeling \nAbstract: \nAdvanced reactors are driving the frontiers of research and development in the energy sector. While pushing for accelerated development timelines\, a thorough understanding of these systems and their constituent materials is required for licensing and deployment. Mechanistically informed fuel performance modeling is a tool for accelerated qualification\, but also requires lower-length scale modeling and experiments for proper description. Specifically\, atomistically-informed properties\, behaviors\, and phenomena can reduce uncertainty and directly inform engineering scale models\, while also informing experimental efforts and interpretation. In this talk\, I will show some examples of atomistic scale simulations which are informing engineering scale fuel performance simulations\, identifying the core multiscale modeling framework behind mechanistic fuel performance modeling. \n  \nJoining Virtually? \nMicrosoft Teams meeting \nJoin: https://teams.microsoft.com/meet/27879510271893?p=C9ZC4ZcdNS7KPjmHFf \nMeeting ID: 278 795 102 718 93 \nPasscode: yv6fi65f \nNeed help? | System reference \nDial in by phone \n+1 647-794-1609\,\,757523080# Canada\, Toronto \nFind a local number \nPhone conference ID: 757 523 080# \nFor organizers: Meeting options | Reset dial-in PIN \n  \n  \nTEACHING SEMINAR: March 6th from 10:00 – 11:00 am (WB-215 or on MS Teams) \nTitle: Introduction to Stress Corrosion Cracking \n  \nJoining Virtually? \nMicrosoft Teams meeting \nJoin: https://teams.microsoft.com/meet/26531472331390?p=lVSuDiIInkicn4XJoN \nMeeting ID: 265 314 723 313 90 \nPasscode: eM9PE97L \nNeed help? | System reference \nDial in by phone \n+1 647-794-1609\,\,419452701# Canada\, Toronto \nFind a local number \nPhone conference ID: 419 452 701# \nFor organizers: Meeting options | Reset dial-in PIN \n  \nSPEAKER BIOGRAPHY: \n \nDr. Benjamin Beeler is an Associate Professor in the Nuclear Engineering Department at NCSU. He received his B.S.\, M.S.\, and Ph.D. degrees in Nuclear and Radiological Engineering from the Georgia Institute of Technology. He was a post-doctoral researcher jointly at the University of California\, Davis and the University of California\, Berkeley. Before joining the NC State faculty\, he was a computational scientist in the Computational Microstructure Science group in the Fuels Modeling and Simulation Department at Idaho National Laboratory. He is an expert in density functional theory and molecular dynamics\, and currently maintains a group of 10+ graduate and undergraduate students pursuing research on advanced nuclear materials and related systems.
URL:https://chem-eng.utoronto.ca/event/search-for-associate-professor-nuclear-ben-beeler/
LOCATION:Wallberg Building\, Room WB-215\, 200 College St\, Toronto\, ON M5T 3E5\, 200 College St\,\, Toronto\, Ontario\, M5T 3E5\, Canada
END:VEVENT
END:VCALENDAR